BEGIN:VCALENDAR
VERSION:2.0
PRODID:-//Valthermond.nu | Dorpsbudget voor Valthermond Zandbergen tweede Valthermond - ECPv6.15.20//NONSGML v1.0//EN
CALSCALE:GREGORIAN
METHOD:PUBLISH
X-WR-CALNAME:Valthermond.nu | Dorpsbudget voor Valthermond Zandbergen tweede Valthermond
X-ORIGINAL-URL:https://valthermond.nu
X-WR-CALDESC:Evenementen voor Valthermond.nu | Dorpsbudget voor Valthermond Zandbergen tweede Valthermond
REFRESH-INTERVAL;VALUE=DURATION:PT1H
X-Robots-Tag:noindex
X-PUBLISHED-TTL:PT1H
BEGIN:VTIMEZONE
TZID:Europe/Amsterdam
BEGIN:DAYLIGHT
TZOFFSETFROM:+0100
TZOFFSETTO:+0200
TZNAME:CEST
DTSTART:20230326T010000
END:DAYLIGHT
BEGIN:STANDARD
TZOFFSETFROM:+0200
TZOFFSETTO:+0100
TZNAME:CET
DTSTART:20231029T010000
END:STANDARD
BEGIN:DAYLIGHT
TZOFFSETFROM:+0100
TZOFFSETTO:+0200
TZNAME:CEST
DTSTART:20240331T010000
END:DAYLIGHT
BEGIN:STANDARD
TZOFFSETFROM:+0200
TZOFFSETTO:+0100
TZNAME:CET
DTSTART:20241027T010000
END:STANDARD
BEGIN:DAYLIGHT
TZOFFSETFROM:+0100
TZOFFSETTO:+0200
TZNAME:CEST
DTSTART:20250330T010000
END:DAYLIGHT
BEGIN:STANDARD
TZOFFSETFROM:+0200
TZOFFSETTO:+0100
TZNAME:CET
DTSTART:20251026T010000
END:STANDARD
END:VTIMEZONE
BEGIN:VEVENT
DTSTART;TZID=Europe/Amsterdam:20241116T193000
DTEND;TZID=Europe/Amsterdam:20241116T235500
DTSTAMP:20260421T032218
CREATED:20241005T154157Z
LAST-MODIFIED:20241005T154157Z
UID:866-1731785400-1731801300@valthermond.nu
SUMMARY:Pubquiz vvValthermond
DESCRIPTION:
URL:https://valthermond.nu/event/pubquiz-vvvalthermond/
LOCATION:Voetbalvereniging Valthermond
END:VEVENT
BEGIN:VEVENT
DTSTART;TZID=Europe/Amsterdam:20241019T193000
DTEND;TZID=Europe/Amsterdam:20241019T235900
DTSTAMP:20260421T032218
CREATED:20240830T113414Z
LAST-MODIFIED:20240830T113618Z
UID:858-1729366200-1729382340@valthermond.nu
SUMMARY:Oktoberfest
DESCRIPTION:
URL:https://valthermond.nu/event/oktoberfest/
ATTACH;FMTTYPE=image/webp:https://valthermond.nu/wp-content/uploads/2024/08/067a1d89-88c7-4f70-addd-56c92e27a78d.webp
END:VEVENT
BEGIN:VEVENT
DTSTART;TZID=Europe/Amsterdam:20240928T100000
DTEND;TZID=Europe/Amsterdam:20240928T160000
DTSTAMP:20260421T032218
CREATED:20240830T113239Z
LAST-MODIFIED:20240830T113239Z
UID:855-1727517600-1727539200@valthermond.nu
SUMMARY:Rommelroute
DESCRIPTION:
URL:https://valthermond.nu/event/rommelroute/
END:VEVENT
BEGIN:VEVENT
DTSTART;TZID=Europe/Amsterdam:20240906T080000
DTEND;TZID=Europe/Amsterdam:20240908T170000
DTSTAMP:20260421T032218
CREATED:20240726T113149Z
LAST-MODIFIED:20240821T165743Z
UID:830-1725609600-1725814800@valthermond.nu
SUMMARY:Voel het Veen Festival
DESCRIPTION:Het Voel het Veen Festival komt terug voor een geweldige tweede editie en dat mag je niet missen. Drie dagen vol muziek\, kunst\, eten\, theater en nog veel meer.
URL:https://valthermond.nu/event/voel-het-veen-festival/
LOCATION:D’ Rentmeester\, Zuiderdiep 279\, Valthermond
END:VEVENT
BEGIN:VEVENT
DTSTART;VALUE=DATE:20240825
DTEND;VALUE=DATE:20240826
DTSTAMP:20260421T032218
CREATED:20240821T165634Z
LAST-MODIFIED:20240821T165634Z
UID:851-1724544000-1724630399@valthermond.nu
SUMMARY:Zomerflair\, atelier de Tuinkamer
DESCRIPTION:
URL:https://valthermond.nu/event/zomerflair-atelier-de-tuinkamer/
END:VEVENT
BEGIN:VEVENT
DTSTART;TZID=Europe/Amsterdam:20240810T100000
DTEND;TZID=Europe/Amsterdam:20240810T170000
DTSTAMP:20260421T032218
CREATED:20240726T112508Z
LAST-MODIFIED:20240726T112508Z
UID:826-1723284000-1723309200@valthermond.nu
SUMMARY:Struun'n Valthermond
DESCRIPTION:Struun’n door Valthermond\nZaterdag 10 augustus\n10.00 – 17.00 uur
URL:https://valthermond.nu/event/struunn-valthermond/
LOCATION:De Wijngaard\, Zuiderdiep 153\, Valthermond
END:VEVENT
END:VCALENDAR