BEGIN:VCALENDAR
VERSION:2.0
PRODID:-//Valthermond.nu | Dorpsbudget voor Valthermond Zandbergen tweede Valthermond - ECPv6.15.20//NONSGML v1.0//EN
CALSCALE:GREGORIAN
METHOD:PUBLISH
X-ORIGINAL-URL:https://valthermond.nu
X-WR-CALDESC:Evenementen voor Valthermond.nu | Dorpsbudget voor Valthermond Zandbergen tweede Valthermond
REFRESH-INTERVAL;VALUE=DURATION:PT1H
X-Robots-Tag:noindex
X-PUBLISHED-TTL:PT1H
BEGIN:VTIMEZONE
TZID:Europe/Amsterdam
BEGIN:DAYLIGHT
TZOFFSETFROM:+0100
TZOFFSETTO:+0200
TZNAME:CEST
DTSTART:20240331T010000
END:DAYLIGHT
BEGIN:STANDARD
TZOFFSETFROM:+0200
TZOFFSETTO:+0100
TZNAME:CET
DTSTART:20241027T010000
END:STANDARD
BEGIN:DAYLIGHT
TZOFFSETFROM:+0100
TZOFFSETTO:+0200
TZNAME:CEST
DTSTART:20250330T010000
END:DAYLIGHT
BEGIN:STANDARD
TZOFFSETFROM:+0200
TZOFFSETTO:+0100
TZNAME:CET
DTSTART:20251026T010000
END:STANDARD
BEGIN:DAYLIGHT
TZOFFSETFROM:+0100
TZOFFSETTO:+0200
TZNAME:CEST
DTSTART:20260329T010000
END:DAYLIGHT
BEGIN:STANDARD
TZOFFSETFROM:+0200
TZOFFSETTO:+0100
TZNAME:CET
DTSTART:20261025T010000
END:STANDARD
END:VTIMEZONE
BEGIN:VEVENT
DTSTART;VALUE=DATE:20251216
DTEND;VALUE=DATE:20251217
DTSTAMP:20260420T171318
CREATED:20251205T111753Z
LAST-MODIFIED:20251205T111946Z
UID:2167-1765843200-1765929599@valthermond.nu
SUMMARY:t Veurhof Darten en Country
DESCRIPTION:
URL:https://valthermond.nu/event/t-veurhof-darten-en-country-2/
END:VEVENT
BEGIN:VEVENT
DTSTART;TZID=Europe/Amsterdam:20251216T140000
DTEND;TZID=Europe/Amsterdam:20251216T153000
DTSTAMP:20260420T171318
CREATED:20251110T160717Z
LAST-MODIFIED:20251110T160717Z
UID:2134-1765893600-1765899000@valthermond.nu
SUMMARY:Winters buurtbakkie t Brughuus (Andes)
DESCRIPTION:
URL:https://valthermond.nu/event/winters-buurtbakkie-t-brughuus-andes-2/
END:VEVENT
END:VCALENDAR