BEGIN:VCALENDAR
VERSION:2.0
PRODID:-//Valthermond.nu | Dorpsbudget voor Valthermond Zandbergen tweede Valthermond - ECPv6.15.20//NONSGML v1.0//EN
CALSCALE:GREGORIAN
METHOD:PUBLISH
X-WR-CALNAME:Valthermond.nu | Dorpsbudget voor Valthermond Zandbergen tweede Valthermond
X-ORIGINAL-URL:https://valthermond.nu
X-WR-CALDESC:Evenementen voor Valthermond.nu | Dorpsbudget voor Valthermond Zandbergen tweede Valthermond
REFRESH-INTERVAL;VALUE=DURATION:PT1H
X-Robots-Tag:noindex
X-PUBLISHED-TTL:PT1H
BEGIN:VTIMEZONE
TZID:Europe/Amsterdam
BEGIN:DAYLIGHT
TZOFFSETFROM:+0100
TZOFFSETTO:+0200
TZNAME:CEST
DTSTART:20240331T010000
END:DAYLIGHT
BEGIN:STANDARD
TZOFFSETFROM:+0200
TZOFFSETTO:+0100
TZNAME:CET
DTSTART:20241027T010000
END:STANDARD
BEGIN:DAYLIGHT
TZOFFSETFROM:+0100
TZOFFSETTO:+0200
TZNAME:CEST
DTSTART:20250330T010000
END:DAYLIGHT
BEGIN:STANDARD
TZOFFSETFROM:+0200
TZOFFSETTO:+0100
TZNAME:CET
DTSTART:20251026T010000
END:STANDARD
BEGIN:DAYLIGHT
TZOFFSETFROM:+0100
TZOFFSETTO:+0200
TZNAME:CEST
DTSTART:20260329T010000
END:DAYLIGHT
BEGIN:STANDARD
TZOFFSETFROM:+0200
TZOFFSETTO:+0100
TZNAME:CET
DTSTART:20261025T010000
END:STANDARD
END:VTIMEZONE
BEGIN:VEVENT
DTSTART;TZID=Europe/Amsterdam:20250406T140000
DTEND;TZID=Europe/Amsterdam:20250406T170000
DTSTAMP:20260421T065329
CREATED:20241219T194050Z
LAST-MODIFIED:20241219T194050Z
UID:923-1743948000-1743958800@valthermond.nu
SUMMARY:Theatergroep WAARK
DESCRIPTION:Meer informatie\, zie website ccno11.nl
URL:https://valthermond.nu/event/theatergroep-waark/
LOCATION:Cultureel Centrum no. 11
END:VEVENT
END:VCALENDAR